BEGIN:VCALENDAR
VERSION:2.0
PRODID:-//wp-events-plugin.com//7.2.3.1//EN
TZID:America/Los_Angeles
X-WR-TIMEZONE:America/Los_Angeles
BEGIN:VEVENT
UID:10@dvsbf.org
DTSTART;TZID=America/Los_Angeles:20190329T180000
DTEND;TZID=America/Los_Angeles:20190329T230000
DTSTAMP:20190227T002518Z
URL:https://dvsbf.org/events/burlesque-show/
SUMMARY:Burlesque Show
DESCRIPTION:Burlesque Show\nSave the new date\nPlease join us for an aftern
 oon of theatre!\n\nWhen: Friday\, March 29th\n\nWhere: Uptown Theatre\n\nS
 ign up: Call DVSBF tel: (509)7278168\n\n&nbsp\;\n\n&nbsp\;\n\n&nbsp\;\n\n&
 nbsp\;
ATTACH;FMTTYPE=image/jpeg:https://dvsbf.org/wp-content/uploads/2019/02/Ful
 lSizeRender.jpeg
LOCATION:Uptown Theatre\, 1300 Jadwin Ave\, Richland\, WA\, 99354\, United 
 States
X-APPLE-STRUCTURED-LOCATION;VALUE=URI;X-ADDRESS=1300 Jadwin Ave\, Richland\
 , WA\, 99354\, United States;X-APPLE-RADIUS=100;X-TITLE=Uptown Theatre:geo
 :0,0
END:VEVENT
BEGIN:VTIMEZONE
TZID:America/Los_Angeles
X-LIC-LOCATION:America/Los_Angeles
BEGIN:DAYLIGHT
DTSTART:20190310T030000
TZOFFSETFROM:-0800
TZOFFSETTO:-0700
TZNAME:PDT
END:DAYLIGHT
END:VTIMEZONE
END:VCALENDAR